BEGIN:VCALENDAR
VERSION:2.0
PRODID:-//hacksw/handcal//NONSGML v1.0//EN
BEGIN:VEVENT
DTSTAMP:20261219T160000Z
DTSTART:20261219T160000Z
DTEND:20261219T170000Z

SUMMARY:Merry, Merry Mischief: Holiday Classics
DESCRIPTION:The fourth and final installment in our Classics for Kids! series, bringing fantastic live theatre to families and young theatregoers!Gather the whole family for a cozy, kid-friendly holiday treat! Merry, Merry Mischief: Holiday Classics is a joyful production that brings the magic of winter to life through beloved short stories and poems. Perfect for young audiences and the young at heart!Appropriate for all ages.
END:VEVENT
END:VCALENDAR