BEGIN:VCALENDAR
VERSION:2.0
PRODID:-//hacksw/handcal//NONSGML v1.0//EN
BEGIN:VEVENT
DTSTAMP:20260819T233000Z
DTSTART:20260819T233000Z
DTEND:20260820T013000Z

SUMMARY:Rogue Shakespeare: The Merry Wives of Windsor
DESCRIPTION:The Merry Wives of Windsor explodes onto the stage as part of Rogue Shakespeare, a bold season add-on that throws the rules out the window and puts the play exactly where it belongs: in the hands of extraordinary actors. With no director shaping the action, the company dives headfirst into Shakespeare’s language, with their imagination fully unleashed.The Merry Wives of Windsor is a fast-paced comedy of schemes, disguises, and delicious revenge. When the boastful Sir John Falstaff attempts to woo two clever, happily married women, he sends them identical love letters — only to discover that Mistress Ford and Mistress Page are far smarter than he expects.
END:VEVENT
END:VCALENDAR