BEGIN:VCALENDAR
VERSION:2.0
PRODID:-//hacksw/handcal//NONSGML v1.0//EN
BEGIN:VEVENT
DTSTAMP:20261024T150000Z
DTSTART:20261024T150000Z
DTEND:20261024T160000Z

SUMMARY:The Dragon King
DESCRIPTION:The third installment in our Classics for Kids! series, bringing fantastic live theatre to families and young theatregoers!An underwater fantasy based on Chinese folklore, The Dragon King tells the tale of an intrepid Grandmother who journeys to the bottom of the sea in search of the elusive Dragon King, and the answers to why he has forsaken the land above. Colorful sea creatures, an exciting adventure, and a Dragon King that will knock your socks off! All this and more can be found in this award-winning production.Appropriate for ages 3 and up.
END:VEVENT
END:VCALENDAR