BEGIN:VCALENDAR
VERSION:2.0
PRODID:-//hacksw/handcal//NONSGML v1.0//EN
BEGIN:VEVENT
DTSTAMP:20261114T160000Z
DTSTART:20261114T160000Z
DTEND:20261114T180000Z

SUMMARY:Thomas H. Kean Theatre Factory Tours
DESCRIPTION:Take a tour of one of the most unique, behind-the-scenes workspaces in the American theatre. The Thomas H. Kean Theatre Factory houses all of the shops, costumes, props, and scenery needed to produce plays, plus much more. Located in Florham Park, this 50,000 sq. ft. site is simultaneously an interactive museum, a work of art, a teaching tool, and a workspace for scores of theatre artists. See how a play goes from page to stage, and experience the space that makes the magic happen.
END:VEVENT
END:VCALENDAR